BEGIN:VCALENDAR
VERSION:2.0
PRODID:-//See Lac - ECPv6.15.11//NONSGML v1.0//EN
CALSCALE:GREGORIAN
METHOD:PUBLISH
X-WR-CALNAME:See Lac
X-ORIGINAL-URL:https://see-lac.ch
X-WR-CALDESC:Veranstaltungen im See Lac
REFRESH-INTERVAL;VALUE=DURATION:PT1H
X-Robots-Tag:noindex
X-PUBLISHED-TTL:PT1H
BEGIN:VTIMEZONE
TZID:UTC
BEGIN:STANDARD
TZOFFSETFROM:+0000
TZOFFSETTO:+0000
TZNAME:UTC
DTSTART:20250101T000000
END:STANDARD
END:VTIMEZONE
BEGIN:VEVENT
DTSTART;TZID=UTC:20260511T200000
DTEND;TZID=UTC:20260511T220000
DTSTAMP:20260422T171411
CREATED:20260223T093945Z
LAST-MODIFIED:20260223T093946Z
UID:1364-1778529600-1778536800@see-lac.ch
SUMMARY:Gemeindeversammlung Greng
DESCRIPTION:
URL:https://see-lac.ch/aktualitaeten/gemeindeversammlung-greng-2/
END:VEVENT
BEGIN:VEVENT
DTSTART;TZID=UTC:20260511T200000
DTEND;TZID=UTC:20260511T220000
DTSTAMP:20260422T171411
CREATED:20260223T094503Z
LAST-MODIFIED:20260223T094504Z
UID:1376-1778529600-1778536800@see-lac.ch
SUMMARY:Gemeindeversammlung Merlach
DESCRIPTION:
URL:https://see-lac.ch/aktualitaeten/gemeindeversammlung-merlach/
END:VEVENT
BEGIN:VEVENT
DTSTART;TZID=UTC:20260518T193000
DTEND;TZID=UTC:20260518T220000
DTSTAMP:20260422T171411
CREATED:20260223T094016Z
LAST-MODIFIED:20260223T094017Z
UID:1366-1779132600-1779141600@see-lac.ch
SUMMARY:Gemeindeversammlung Gurmels
DESCRIPTION:
URL:https://see-lac.ch/aktualitaeten/gemeindeversammlung-gurmels-3/
END:VEVENT
BEGIN:VEVENT
DTSTART;TZID=UTC:20260519T190000
DTEND;TZID=UTC:20260519T210000
DTSTAMP:20260422T171411
CREATED:20260223T092546Z
LAST-MODIFIED:20260223T092634Z
UID:1335-1779217200-1779224400@see-lac.ch
SUMMARY:Assemblée communale Courgevaux
DESCRIPTION:Auberge communale
URL:https://see-lac.ch/aktualitaeten/assemblee-communale-courgevaux/
END:VEVENT
BEGIN:VEVENT
DTSTART;TZID=UTC:20260520T190000
DTEND;TZID=UTC:20260520T200000
DTSTAMP:20260422T171411
CREATED:20251028T083734Z
LAST-MODIFIED:20251028T083735Z
UID:1284-1779303600-1779307200@see-lac.ch
SUMMARY:DV OSRM // AD CORM
DESCRIPTION:
URL:https://see-lac.ch/aktualitaeten/dv-osrm-ad-corm/
END:VEVENT
BEGIN:VEVENT
DTSTART;TZID=UTC:20260521T190000
DTEND;TZID=UTC:20260521T200000
DTSTAMP:20260422T171411
CREATED:20260209T141159Z
LAST-MODIFIED:20260209T141200Z
UID:1325-1779390000-1779393600@see-lac.ch
SUMMARY:Delegiertenversammlung TWB
DESCRIPTION:
URL:https://see-lac.ch/aktualitaeten/delegiertenversammlung-twb/
END:VEVENT
BEGIN:VEVENT
DTSTART;TZID=UTC:20260527T190000
DTEND;TZID=UTC:20260527T220000
DTSTAMP:20260422T171411
CREATED:20260223T093048Z
LAST-MODIFIED:20260223T093049Z
UID:1344-1779908400-1779919200@see-lac.ch
SUMMARY:Conseil général / Generalrat Courtepin
DESCRIPTION:
URL:https://see-lac.ch/aktualitaeten/conseil-general-generalrat-courtepin-8/
END:VEVENT
BEGIN:VEVENT
DTSTART;TZID=UTC:20260527T193000
DTEND;TZID=UTC:20260527T203000
DTSTAMP:20260422T171411
CREATED:20251028T083255Z
LAST-MODIFIED:20251028T083256Z
UID:1280-1779910200-1779913800@see-lac.ch
SUMMARY:Delegiertenversammlung ARA Region Murten
DESCRIPTION:
URL:https://see-lac.ch/aktualitaeten/delegiertenversammlung-ara-region-murten-3/
END:VEVENT
BEGIN:VEVENT
DTSTART;TZID=UTC:20260528T193000
DTEND;TZID=UTC:20260528T220000
DTSTAMP:20260422T171411
CREATED:20260223T093518Z
LAST-MODIFIED:20260223T093519Z
UID:1354-1779996600-1780005600@see-lac.ch
SUMMARY:Gemeindeversammlung Fräschels
DESCRIPTION:
URL:https://see-lac.ch/aktualitaeten/gemeindeversammlung-fraeschels-3/
END:VEVENT
BEGIN:VEVENT
DTSTART;TZID=UTC:20260528T200000
DTEND;TZID=UTC:20260528T220000
DTSTAMP:20260422T171411
CREATED:20260223T094907Z
LAST-MODIFIED:20260223T094908Z
UID:1384-1779998400-1780005600@see-lac.ch
SUMMARY:Gemeindeversammlung Muntelier
DESCRIPTION:
URL:https://see-lac.ch/aktualitaeten/gemeindeversammlung-muntelier-2/
END:VEVENT
END:VCALENDAR