BEGIN:VCALENDAR
VERSION:2.0
PRODID:-//See Lac - ECPv6.15.11//NONSGML v1.0//EN
CALSCALE:GREGORIAN
METHOD:PUBLISH
X-ORIGINAL-URL:https://see-lac.ch/fr
X-WR-CALDESC:Évènements pour See Lac
REFRESH-INTERVAL;VALUE=DURATION:PT1H
X-Robots-Tag:noindex
X-PUBLISHED-TTL:PT1H
BEGIN:VTIMEZONE
TZID:UTC
BEGIN:STANDARD
TZOFFSETFROM:+0000
TZOFFSETTO:+0000
TZNAME:UTC
DTSTART:20250101T000000
END:STANDARD
END:VTIMEZONE
BEGIN:VEVENT
DTSTART;TZID=UTC:20260519T190000
DTEND;TZID=UTC:20260519T210000
DTSTAMP:20260422T201906
CREATED:20260223T092546Z
LAST-MODIFIED:20260223T092634Z
UID:1335-1779217200-1779224400@see-lac.ch
SUMMARY:Assemblée communale Courgevaux
DESCRIPTION:Auberge communale
URL:https://see-lac.ch/fr/aktualitaeten/assemblee-communale-courgevaux/
END:VEVENT
END:VCALENDAR