BEGIN:VCALENDAR
VERSION:2.0
PRODID:-//See Lac - ECPv6.15.11//NONSGML v1.0//EN
CALSCALE:GREGORIAN
METHOD:PUBLISH
X-WR-CALNAME:See Lac
X-ORIGINAL-URL:https://see-lac.ch/fr
X-WR-CALDESC:Évènements pour See Lac
REFRESH-INTERVAL;VALUE=DURATION:PT1H
X-Robots-Tag:noindex
X-PUBLISHED-TTL:PT1H
BEGIN:VTIMEZONE
TZID:UTC
BEGIN:STANDARD
TZOFFSETFROM:+0000
TZOFFSETTO:+0000
TZNAME:UTC
DTSTART:20250101T000000
END:STANDARD
END:VTIMEZONE
BEGIN:VEVENT
DTSTART;TZID=UTC:20260603T200000
DTEND;TZID=UTC:20260603T220000
DTSTAMP:20260422T214807
CREATED:20260223T093839Z
LAST-MODIFIED:20260223T093841Z
UID:1360-1780516800-1780524000@see-lac.ch
SUMMARY:Gemeindeversammlung Kleinbösingen
DESCRIPTION:
URL:https://see-lac.ch/fr/aktualitaeten/gemeindeversammlung-kleinboesingen-2/
END:VEVENT
BEGIN:VEVENT
DTSTART;TZID=UTC:20260603T200000
DTEND;TZID=UTC:20260603T220000
DTSTAMP:20260422T214807
CREATED:20260223T095030Z
LAST-MODIFIED:20260223T095031Z
UID:1390-1780516800-1780524000@see-lac.ch
SUMMARY:Generalrat Murten
DESCRIPTION:
URL:https://see-lac.ch/fr/aktualitaeten/generalrat-murten-3/
END:VEVENT
END:VCALENDAR